BEGIN:VCALENDAR
VERSION:2.0
PRODID:-//EDITORIAL VINATEA - ECPv4.8.2//NONSGML v1.0//EN
CALSCALE:GREGORIAN
METHOD:PUBLISH
X-WR-CALNAME:EDITORIAL VINATEA
X-ORIGINAL-URL:https://editorialvinatea.com
X-WR-CALDESC:Eventos para EDITORIAL VINATEA
BEGIN:VEVENT
DTSTART;TZID=UTC+0:20170426T180000
DTEND;TZID=UTC+0:20170426T193000
DTSTAMP:20260419T014435
CREATED:20170416T185706Z
LAST-MODIFIED:20170416T185706Z
UID:1539-1493229600-1493235000@editorialvinatea.com
SUMMARY:Presentación del libro "30 mujeres fascinantes en la historia de Valencia"
DESCRIPTION:
URL:https://editorialvinatea.com/evento/presentacion-del-libro-30-mujeres-fascinantes-en-la-historia-de-valencia-4/
LOCATION:Jardines de Viveros\, calle San Pio V\, s/n\, 46001
CATEGORIES:Presentación de libro
ORGANIZER;CN="Editorial%20VINATEA":MAILTO:editorialvinatea@hotmail.com
END:VEVENT
END:VCALENDAR